Workbook

Sheet PI 5
A1: PI | B1: OE | C1: OPERACIÓN | D1: INDICADOR | F1: 2021 | J1: 2022 | N1: 2023 | R1: 2024 | V1: 2025 | Z1: 2026 | AD1: 2027 | AH1: 2028 | AL1: 2029 | AP1: TOTALES
F2: H | G2: M | H2: NB | I2: T | J2: H | K2: M | L2: NB | M2: T | N2: H | O2: M | P2: NB | Q2: T | R2: H | S2: M | T2: NB | U2: T | V2: H | W2: M | X2: NB | Y2: T | Z2: H | AA2: M | AB2: NB | AC2: T | AD2: H | AE2: M | AF2: NB | AG2: T | AH2: H | AI2: M | AJ2: NB | AK2: T | AL2: H | AM2: M | AN2: NB | AO2: T | AP2: H | AQ2: M | AR2: NB | AS2: T
A3: 5 | B3: ESO4.6 f | C3: ESL TALLERES PROF. 2022-2023 | D3: EECO06+07 | E3: Niños y jóvenes | I3: =SUM(F3:H3) -> 0 | M3: =SUM(J3:L3) -> 0 | Q3: =SUM(N3:P3) -> 0 | U3: =SUM(R3:T3) -> 0 | Y3: =SUM(V3:X3) -> 0 | AC3: =SUM(Z3:AB3) -> 0 | AG3: =SUM(AD3:AF3) -> 0 | AK3: =SUM(AH3:AJ3) -> 0 | AO3: =SUM(AL3:AN3) -> 0 | AP3: =SUM(F3,J3,N3,R3,V3,Z3,AD3,AH3,AL3) -> 0 | AQ3: =SUM(G3,K3,O3,S3,W3,AA3,AE3,AI3,AM3) -> 0 | AR3: =SUM(H3,L3,P3,T3,X3,AB3,AF3,AJ3,AN3) -> 0 | AS3: =SUM(I3,M3,Q3,U3,Y3,AC3,AG3,AK3,AO3) -> 0
A4: 5 | B4: ESO4.6 f | C4: ESL TALLERES PROF. 2022-2023 | D4: EECO01 | E4: Número total de participantes | I4: =SUM(F4:H4) -> 0 | M4: =SUM(J4:L4) -> 0 | Q4: =SUM(N4:P4) -> 0 | U4: =SUM(R4:T4) -> 0 | Y4: =SUM(V4:X4) -> 0 | AC4: =SUM(Z4:AB4) -> 0 | AG4: =SUM(AD4:AF4) -> 0 | AK4: =SUM(AH4:AJ4) -> 0 | AO4: =SUM(AL4:AN4) -> 0 | AP4: =SUM(F4,J4,N4,R4,V4,Z4,AD4,AH4,AL4) -> 0 | AQ4: =SUM(G4,K4,O4,S4,W4,AA4,AE4,AI4,AM4) -> 0 | AR4: =SUM(H4,L4,P4,T4,X4,AB4,AF4,AJ4,AN4) -> 0 | AS4: =SUM(I4,M4,Q4,U4,Y4,AC4,AG4,AK4,AO4) -> 0
A5: 5 | B5: ESO4.6 f | C5: ESL TALLERES PROF. 2022-2023 | D5: EECO02 | E5: Desempleados, incluidos los de larga duración | I5: =SUM(F5:H5) -> 0 | M5: =SUM(J5:L5) -> 0 | Q5: =SUM(N5:P5) -> 0 | U5: =SUM(R5:T5) -> 0 | Y5: =SUM(V5:X5) -> 0 | AC5: =SUM(Z5:AB5) -> 0 | AG5: =SUM(AD5:AF5) -> 0 | AK5: =SUM(AH5:AJ5) -> 0 | AO5: =SUM(AL5:AN5) -> 0 | AP5: =SUM(F5,J5,N5,R5,V5,Z5,AD5,AH5,AL5) -> 0 | AQ5: =SUM(G5,K5,O5,S5,W5,AA5,AE5,AI5,AM5) -> 0 | AR5: =SUM(H5,L5,P5,T5,X5,AB5,AF5,AJ5,AN5) -> 0 | AS5: =SUM(I5,M5,Q5,U5,Y5,AC5,AG5,AK5,AO5) -> 0
A6: 5 | B6: ESO4.6 f | C6: ESL TALLERES PROF. 2022-2023 | D6: EECO03 | E6: Desempleados de larga duración | I6: =SUM(F6:H6) -> 0 | M6: =SUM(J6:L6) -> 0 | Q6: =SUM(N6:P6) -> 0 | U6: =SUM(R6:T6) -> 0 | Y6: =SUM(V6:X6) -> 0 | AC6: =SUM(Z6:AB6) -> 0 | AG6: =SUM(AD6:AF6) -> 0 | AK6: =SUM(AH6:AJ6) -> 0 | AO6: =SUM(AL6:AN6) -> 0 | AP6: =SUM(F6,J6,N6,R6,V6,Z6,AD6,AH6,AL6) -> 0 | AQ6: =SUM(G6,K6,O6,S6,W6,AA6,AE6,AI6,AM6) -> 0 | AR6: =SUM(H6,L6,P6,T6,X6,AB6,AF6,AJ6,AN6) -> 0 | AS6: =SUM(I6,M6,Q6,U6,Y6,AC6,AG6,AK6,AO6) -> 0
A7: 5 | B7: ESO4.6 f | C7: ESL TALLERES PROF. 2022-2023 | D7: EECO04 | E7: Inactivo | I7: =SUM(F7:H7) -> 0 | M7: =SUM(J7:L7) -> 0 | Q7: =SUM(N7:P7) -> 0 | U7: =SUM(R7:T7) -> 0 | Y7: =SUM(V7:X7) -> 0 | AC7: =SUM(Z7:AB7) -> 0 | AG7: =SUM(AD7:AF7) -> 0 | AK7: =SUM(AH7:AJ7) -> 0 | AO7: =SUM(AL7:AN7) -> 0 | AP7: =SUM(F7,J7,N7,R7,V7,Z7,AD7,AH7,AL7) -> 0 | AQ7: =SUM(G7,K7,O7,S7,W7,AA7,AE7,AI7,AM7) -> 0 | AR7: =SUM(H7,L7,P7,T7,X7,AB7,AF7,AJ7,AN7) -> 0 | AS7: =SUM(I7,M7,Q7,U7,Y7,AC7,AG7,AK7,AO7) -> 0
A8: 5 | B8: ESO4.6 f | C8: ESL TALLERES PROF. 2022-2023 | D8: EECO05 | E8: Empleados, incluso por cuenta propia | I8: =SUM(F8:H8) -> 0 | M8: =SUM(J8:L8) -> 0 | Q8: =SUM(N8:P8) -> 0 | U8: =SUM(R8:T8) -> 0 | Y8: =SUM(V8:X8) -> 0 | AC8: =SUM(Z8:AB8) -> 0 | AG8: =SUM(AD8:AF8) -> 0 | AK8: =SUM(AH8:AJ8) -> 0 | AO8: =SUM(AL8:AN8) -> 0 | AP8: =SUM(F8,J8,N8,R8,V8,Z8,AD8,AH8,AL8) -> 0 | AQ8: =SUM(G8,K8,O8,S8,W8,AA8,AE8,AI8,AM8) -> 0 | AR8: =SUM(H8,L8,P8,T8,X8,AB8,AF8,AJ8,AN8) -> 0 | AS8: =SUM(I8,M8,Q8,U8,Y8,AC8,AG8,AK8,AO8) -> 0
A9: 5 | B9: ESO4.6 f | C9: ESL TALLERES PROF. 2022-2023 | D9: EECO06 | E9: Menores (menos de 18 años) | I9: =SUM(F9:H9) -> 0 | M9: =SUM(J9:L9) -> 0 | Q9: =SUM(N9:P9) -> 0 | U9: =SUM(R9:T9) -> 0 | Y9: =SUM(V9:X9) -> 0 | AC9: =SUM(Z9:AB9) -> 0 | AG9: =SUM(AD9:AF9) -> 0 | AK9: =SUM(AH9:AJ9) -> 0 | AO9: =SUM(AL9:AN9) -> 0 | AP9: =SUM(F9,J9,N9,R9,V9,Z9,AD9,AH9,AL9) -> 0 | AQ9: =SUM(G9,K9,O9,S9,W9,AA9,AE9,AI9,AM9) -> 0 | AR9: =SUM(H9,L9,P9,T9,X9,AB9,AF9,AJ9,AN9) -> 0 | AS9: =SUM(I9,M9,Q9,U9,Y9,AC9,AG9,AK9,AO9) -> 0
A10: 5 | B10: ESO4.6 f | C10: ESL TALLERES PROF. 2022-2023 | D10: EECO07 | E10: Número de personas jóvenes de edades comprendidas entre los 18 y los 29 años | I10: =SUM(F10:H10) -> 0 | M10: =SUM(J10:L10) -> 0 | Q10: =SUM(N10:P10) -> 0 | U10: =SUM(R10:T10) -> 0 | Y10: =SUM(V10:X10) -> 0 | AC10: =SUM(Z10:AB10) -> 0 | AG10: =SUM(AD10:AF10) -> 0 | AK10: =SUM(AH10:AJ10) -> 0 | AO10: =SUM(AL10:AN10) -> 0 | AP10: =SUM(F10,J10,N10,R10,V10,Z10,AD10,AH10,AL10) -> 0 | AQ10: =SUM(G10,K10,O10,S10,W10,AA10,AE10,AI10,AM10) -> 0 | AR10: =SUM(H10,L10,P10,T10,X10,AB10,AF10,AJ10,AN10) -> 0 | AS10: =SUM(I10,M10,Q10,U10,Y10,AC10,AG10,AK10,AO10) -> 0
A11: 5 | B11: ESO4.6 f | C11: ESL TALLERES PROF. 2022-2023 | D11: EECO08 | E11: Participantes de más de 54 años | I11: =SUM(F11:H11) -> 0 | M11: =SUM(J11:L11) -> 0 | Q11: =SUM(N11:P11) -> 0 | U11: =SUM(R11:T11) -> 0 | Y11: =SUM(V11:X11) -> 0 | AC11: =SUM(Z11:AB11) -> 0 | AG11: =SUM(AD11:AF11) -> 0 | AK11: =SUM(AH11:AJ11) -> 0 | AO11: =SUM(AL11:AN11) -> 0 | AP11: =SUM(F11,J11,N11,R11,V11,Z11,AD11,AH11,AL11) -> 0 | AQ11: =SUM(G11,K11,O11,S11,W11,AA11,AE11,AI11,AM11) -> 0 | AR11: =SUM(H11,L11,P11,T11,X11,AB11,AF11,AJ11,AN11) -> 0 | AS11: =SUM(I11,M11,Q11,U11,Y11,AC11,AG11,AK11,AO11) -> 0
A12: 5 | B12: ESO4.6 f | C12: ESL TALLERES PROF. 2022-2023 | D12: EECO09 | E12: Participantes con el primer ciclo de enseñanza secundaria como máximo | I12: =SUM(F12:H12) -> 0 | M12: =SUM(J12:L12) -> 0 | Q12: =SUM(N12:P12) -> 0 | U12: =SUM(R12:T12) -> 0 | Y12: =SUM(V12:X12) -> 0 | AC12: =SUM(Z12:AB12) -> 0 | AG12: =SUM(AD12:AF12) -> 0 | AK12: =SUM(AH12:AJ12) -> 0 | AO12: =SUM(AL12:AN12) -> 0 | AP12: =SUM(F12,J12,N12,R12,V12,Z12,AD12,AH12,AL12) -> 0 | AQ12: =SUM(G12,K12,O12,S12,W12,AA12,AE12,AI12,AM12) -> 0 | AR12: =SUM(H12,L12,P12,T12,X12,AB12,AF12,AJ12,AN12) -> 0 | AS12: =SUM(I12,M12,Q12,U12,Y12,AC12,AG12,AK12,AO12) -> 0
A13: 5 | B13: ESO4.6 f | C13: ESL TALLERES PROF. 2022-2023 | D13: EECO10 | E13: Participantes con el segundo ciclo de enseñanza secundaria o con enseñanza postsecundaria | I13: =SUM(F13:H13) -> 0 | M13: =SUM(J13:L13) -> 0 | Q13: =SUM(N13:P13) -> 0 | U13: =SUM(R13:T13) -> 0 | Y13: =SUM(V13:X13) -> 0 | AC13: =SUM(Z13:AB13) -> 0 | AG13: =SUM(AD13:AF13) -> 0 | AK13: =SUM(AH13:AJ13) -> 0 | AO13: =SUM(AL13:AN13) -> 0 | AP13: =SUM(F13,J13,N13,R13,V13,Z13,AD13,AH13,AL13) -> 0 | AQ13: =SUM(G13,K13,O13,S13,W13,AA13,AE13,AI13,AM13) -> 0 | AR13: =SUM(H13,L13,P13,T13,X13,AB13,AF13,AJ13,AN13) -> 0 | AS13: =SUM(I13,M13,Q13,U13,Y13,AC13,AG13,AK13,AO13) -> 0
A14: 5 | B14: ESO4.6 f | C14: ESL TALLERES PROF. 2022-2023 | D14: EECO11 | E14: Participantes con enseñanza superior o terciaria | I14: =SUM(F14:H14) -> 0 | M14: =SUM(J14:L14) -> 0 | Q14: =SUM(N14:P14) -> 0 | U14: =SUM(R14:T14) -> 0 | Y14: =SUM(V14:X14) -> 0 | AC14: =SUM(Z14:AB14) -> 0 | AG14: =SUM(AD14:AF14) -> 0 | AK14: =SUM(AH14:AJ14) -> 0 | AO14: =SUM(AL14:AN14) -> 0 | AP14: =SUM(F14,J14,N14,R14,V14,Z14,AD14,AH14,AL14) -> 0 | AQ14: =SUM(G14,K14,O14,S14,W14,AA14,AE14,AI14,AM14) -> 0 | AR14: =SUM(H14,L14,P14,T14,X14,AB14,AF14,AJ14,AN14) -> 0 | AS14: =SUM(I14,M14,Q14,U14,Y14,AC14,AG14,AK14,AO14) -> 0
... A28: 5 | B28: ESO4.6 f | C28: ESL TALLERES PROF. 2022-2023 | D28: EECR06 | E28: Participantes que han mejorado su situación en el mercado de trabajo en los 6 meses siguientes a su participación | I28: =SUM(F28:H28) -> 0 | M28: =SUM(J28:L28) -> 0 | Q28: =SUM(N28:P28) -> 0 | U28: =SUM(R28:T28) -> 0 | Y28: =SUM(V28:X28) -> 0 | AC28: =SUM(Z28:AB28) -> 0 | AG28: =SUM(AD28:AF28) -> 0 | AK28: =SUM(AH28:AJ28) -> 0 | AO28: =SUM(AL28:AN28) -> 0 | AP28: =SUM(F28,J28,N28,R28,V28,Z28,AD28,AH28,AL28) -> 0 | AQ28: =SUM(G28,K28,O28,S28,W28,AA28,AE28,AI28,AM28) -> 0 | AR28: =SUM(H28,L28,P28,T28,X28,AB28,AF28,AJ28,AN28) -> 0 | AS28: =SUM(I28,M28,Q28,U28,Y28,AC28,AG28,AK28,AO28) -> 0

Sheet validaciones
A1: PI | B1: OE | C1: OPERACIÓN | D1: Condición | F1: TOTALES | J1: 2021 | N1: 2022 | R1: 2023 | V1: 2024 | Z1: 2025 | AD1: 2026 | AH1: 2027 | AL1: 2028 | AP1: 2029 | AT1: OK | AU1: MAL
E2: nada | F2: H | G2: M | H2: NB | I2: T | J2: H | K2: M | L2: NB | M2: T | N2: H | O2: M | P2: NB | Q2: T | R2: H | S2: M | T2: NB | U2: T | V2: H | W2: M | X2: NB | Y2: T | Z2: H | AA2: M | AB2: NB | AC2: T | AD2: H | AE2: M | AF2: NB | AG2: T | AH2: H | AI2: M | AJ2: NB | AK2: T | AL2: H | AM2: M | AN2: NB | AO2: T | AP2: H | AQ2: M | AR2: NB | AS2: T
B3: ESO4.6 f | C3: =+'PI 5'!#REF! -> #REF! | D3: (EECO06 + EECO07 + EECO08) <= EECO01 | F3: =IF('PI 5'!AP9+'PI 5'!AP10+'PI 5'!AP11<='PI 5'!AP4,$AT$1,$AU$1) -> OK | G3: =IF('PI 5'!AQ9+'PI 5'!AQ10+'PI 5'!AQ11<='PI 5'!AQ4,$AT$1,$AU$1) -> OK | H3: =IF('PI 5'!AR9+'PI 5'!AR10+'PI 5'!AR11<='PI 5'!AR4,$AT$1,$AU$1) -> OK | I3: =IF('PI 5'!AS9+'PI 5'!AS10+'PI 5'!AS11<='PI 5'!AS4,$AT$1,$AU$1) -> OK | J3: =IF('PI 5'!F9+'PI 5'!F10+'PI 5'!F11<='PI 5'!F4,$AT$1,$AU$1) -> OK | K3: =IF('PI 5'!G9+'PI 5'!G10+'PI 5'!G11<='PI 5'!G4,$AT$1,$AU$1) -> OK | L3: =IF('PI 5'!H9+'PI 5'!H10+'PI 5'!H11<='PI 5'!H4,$AT$1,$AU$1) -> OK | M3: =IF('PI 5'!I9+'PI 5'!I10+'PI 5'!I11<='PI 5'!I4,$AT$1,$AU$1) -> OK | N3: =IF('PI 5'!J9+'PI 5'!J10+'PI 5'!J11<='PI 5'!J4,$AT$1,$AU$1) -> OK | O3: =IF('PI 5'!K9+'PI 5'!K10+'PI 5'!K11<='PI 5'!K4,$AT$1,$AU$1) -> OK | P3: =IF('PI 5'!L9+'PI 5'!L10+'PI 5'!L11<='PI 5'!L4,$AT$1,$AU$1) -> OK | Q3: =IF('PI 5'!M9+'PI 5'!M10+'PI 5'!M11<='PI 5'!M4,$AT$1,$AU$1) -> OK | ... AS3: =IF('PI 5'!AO9+'PI 5'!AO10+'PI 5'!AO11<='PI 5'!AO4,$AT$1,$AU$1) -> OK
C4: =+'PI 5'!#REF! -> #REF! | D4: (EECO09 + EECO10 + EECO11) <= EECO01 | F4: =IF('PI 5'!AP12+'PI 5'!AP13+'PI 5'!AP14<='PI 5'!AP4,$AT$1,$AU$1) -> OK | G4: =IF('PI 5'!AQ12+'PI 5'!AQ13+'PI 5'!AQ14<='PI 5'!AQ4,$AT$1,$AU$1) -> OK | H4: =IF('PI 5'!AR12+'PI 5'!AR13+'PI 5'!AR14<='PI 5'!AR4,$AT$1,$AU$1) -> OK | I4: =IF('PI 5'!AS12+'PI 5'!AS13+'PI 5'!AS14<='PI 5'!AS4,$AT$1,$AU$1) -> OK | J4: =IF('PI 5'!F12+'PI 5'!F13+'PI 5'!F14<='PI 5'!F4,$AT$1,$AU$1) -> OK | K4: =IF('PI 5'!G12+'PI 5'!G13+'PI 5'!G14<='PI 5'!G4,$AT$1,$AU$1) -> OK | L4: =IF('PI 5'!H12+'PI 5'!H13+'PI 5'!H14<='PI 5'!H4,$AT$1,$AU$1) -> OK | M4: =IF('PI 5'!I12+'PI 5'!I13+'PI 5'!I14<='PI 5'!I4,$AT$1,$AU$1) -> OK | N4: =IF('PI 5'!J12+'PI 5'!J13+'PI 5'!J14<='PI 5'!J4,$AT$1,$AU$1) -> OK | O4: =IF('PI 5'!K12+'PI 5'!K13+'PI 5'!K14<='PI 5'!K4,$AT$1,$AU$1) -> OK | P4: =IF('PI 5'!L12+'PI 5'!L13+'PI 5'!L14<='PI 5'!L4,$AT$1,$AU$1) -> OK | Q4: =IF('PI 5'!M12+'PI 5'!M13+'PI 5'!M14<='PI 5'!M4,$AT$1,$AU$1) -> OK | ... AS4: =IF('PI 5'!AO12+'PI 5'!AO13+'PI 5'!AO14<='PI 5'!AO4,$AT$1,$AU$1) -> OK
C5: =+'PI 5'!#REF! -> #REF! | D5: EECO12 <= EECO01 | F5: =IF('PI 5'!AP15<='PI 5'!AP4,$AT$1,$AU$1) -> OK | G5: =IF('PI 5'!AQ15<='PI 5'!AQ4,$AT$1,$AU$1) -> OK | H5: =IF('PI 5'!AR15<='PI 5'!AR4,$AT$1,$AU$1) -> OK | I5: =IF('PI 5'!AS15<='PI 5'!AS4,$AT$1,$AU$1) -> OK | J5: =IF('PI 5'!F15<='PI 5'!F4,$AT$1,$AU$1) -> OK | K5: =IF('PI 5'!G15<='PI 5'!G4,$AT$1,$AU$1) -> OK | L5: =IF('PI 5'!H15<='PI 5'!H4,$AT$1,$AU$1) -> OK | M5: =IF('PI 5'!I15<='PI 5'!I4,$AT$1,$AU$1) -> OK | N5: =IF('PI 5'!J15<='PI 5'!J4,$AT$1,$AU$1) -> OK | O5: =IF('PI 5'!K15<='PI 5'!K4,$AT$1,$AU$1) -> OK | P5: =IF('PI 5'!L15<='PI 5'!L4,$AT$1,$AU$1) -> OK | Q5: =IF('PI 5'!M15<='PI 5'!M4,$AT$1,$AU$1) -> OK | ... AS5: =IF('PI 5'!AO15<='PI 5'!AO4,$AT$1,$AU$1) -> OK
C6: =+'PI 5'!#REF! -> #REF! | D6: EECO13 <= EECO01 | F6: =IF('PI 5'!AP16<='PI 5'!AP4,$AT$1,$AU$1) -> OK | G6: =IF('PI 5'!AQ16<='PI 5'!AQ4,$AT$1,$AU$1) -> OK | H6: =IF('PI 5'!AR16<='PI 5'!AR4,$AT$1,$AU$1) -> OK | I6: =IF('PI 5'!AS16<='PI 5'!AS4,$AT$1,$AU$1) -> OK | J6: =IF('PI 5'!F16<='PI 5'!F4,$AT$1,$AU$1) -> OK | K6: =IF('PI 5'!G16<='PI 5'!G4,$AT$1,$AU$1) -> OK | L6: =IF('PI 5'!H16<='PI 5'!H4,$AT$1,$AU$1) -> OK | M6: =IF('PI 5'!I16<='PI 5'!I4,$AT$1,$AU$1) -> OK | N6: =IF('PI 5'!J16<='PI 5'!J4,$AT$1,$AU$1) -> OK | O6: =IF('PI 5'!K16<='PI 5'!K4,$AT$1,$AU$1) -> OK | P6: =IF('PI 5'!L16<='PI 5'!L4,$AT$1,$AU$1) -> OK | Q6: =IF('PI 5'!M16<='PI 5'!M4,$AT$1,$AU$1) -> OK | ... AS6: =IF('PI 5'!AO16<='PI 5'!AO4,$AT$1,$AU$1) -> OK
C7: =+'PI 5'!#REF! -> #REF! | D7: EECO14 <= EECO01 | F7: =IF('PI 5'!AP17<='PI 5'!AP4,$AT$1,$AU$1) -> OK | G7: =IF('PI 5'!AQ17<='PI 5'!AQ4,$AT$1,$AU$1) -> OK | H7: =IF('PI 5'!AR17<='PI 5'!AR4,$AT$1,$AU$1) -> OK | I7: =IF('PI 5'!AS17<='PI 5'!AS4,$AT$1,$AU$1) -> OK | J7: =IF('PI 5'!F17<='PI 5'!F4,$AT$1,$AU$1) -> OK | K7: =IF('PI 5'!G17<='PI 5'!G4,$AT$1,$AU$1) -> OK | L7: =IF('PI 5'!H17<='PI 5'!H4,$AT$1,$AU$1) -> OK | M7: =IF('PI 5'!I17<='PI 5'!I4,$AT$1,$AU$1) -> OK | N7: =IF('PI 5'!J17<='PI 5'!J4,$AT$1,$AU$1) -> OK | O7: =IF('PI 5'!K17<='PI 5'!K4,$AT$1,$AU$1) -> OK | P7: =IF('PI 5'!L17<='PI 5'!L4,$AT$1,$AU$1) -> OK | Q7: =IF('PI 5'!M17<='PI 5'!M4,$AT$1,$AU$1) -> OK | ... AS7: =IF('PI 5'!AO17<='PI 5'!AO4,$AT$1,$AU$1) -> OK
C8: =+'PI 5'!#REF! -> #REF! | D8: EECO15 <= EECO01 | F8: =IF('PI 5'!AP18<='PI 5'!AP4,$AT$1,$AU$1) -> OK | G8: =IF('PI 5'!AQ18<='PI 5'!AQ4,$AT$1,$AU$1) -> OK | H8: =IF('PI 5'!AR18<='PI 5'!AR4,$AT$1,$AU$1) -> OK | I8: =IF('PI 5'!AS18<='PI 5'!AS4,$AT$1,$AU$1) -> OK | J8: =IF('PI 5'!F18<='PI 5'!F4,$AT$1,$AU$1) -> OK | K8: =IF('PI 5'!G18<='PI 5'!G4,$AT$1,$AU$1) -> OK | L8: =IF('PI 5'!H18<='PI 5'!H4,$AT$1,$AU$1) -> OK | M8: =IF('PI 5'!I18<='PI 5'!I4,$AT$1,$AU$1) -> OK | N8: =IF('PI 5'!J18<='PI 5'!J4,$AT$1,$AU$1) -> OK | O8: =IF('PI 5'!K18<='PI 5'!K4,$AT$1,$AU$1) -> OK | P8: =IF('PI 5'!L18<='PI 5'!L4,$AT$1,$AU$1) -> OK | Q8: =IF('PI 5'!M18<='PI 5'!M4,$AT$1,$AU$1) -> OK | ... AS8: =IF('PI 5'!AO18<='PI 5'!AO4,$AT$1,$AU$1) -> OK
C9: =+'PI 5'!#REF! -> #REF! | D9: EECO16 <= EECO01 | F9: =IF('PI 5'!AP19<='PI 5'!AP4,$AT$1,$AU$1) -> OK | G9: =IF('PI 5'!AQ19<='PI 5'!AQ4,$AT$1,$AU$1) -> OK | H9: =IF('PI 5'!AR19<='PI 5'!AR4,$AT$1,$AU$1) -> OK | I9: =IF('PI 5'!AS19<='PI 5'!AS4,$AT$1,$AU$1) -> OK | J9: =IF('PI 5'!F19<='PI 5'!F4,$AT$1,$AU$1) -> OK | K9: =IF('PI 5'!G19<='PI 5'!G4,$AT$1,$AU$1) -> OK | L9: =IF('PI 5'!H19<='PI 5'!H4,$AT$1,$AU$1) -> OK | M9: =IF('PI 5'!I19<='PI 5'!I4,$AT$1,$AU$1) -> OK | N9: =IF('PI 5'!J19<='PI 5'!J4,$AT$1,$AU$1) -> OK | O9: =IF('PI 5'!K19<='PI 5'!K4,$AT$1,$AU$1) -> OK | P9: =IF('PI 5'!L19<='PI 5'!L4,$AT$1,$AU$1) -> OK | Q9: =IF('PI 5'!M19<='PI 5'!M4,$AT$1,$AU$1) -> OK | ... AS9: =IF('PI 5'!AO19<='PI 5'!AO4,$AT$1,$AU$1) -> OK
C10: =+'PI 5'!#REF! -> #REF! | D10: EECO17 <= EECO01 | F10: =IF('PI 5'!AP20<='PI 5'!AP4,$AT$1,$AU$1) -> OK | G10: =IF('PI 5'!AQ20<='PI 5'!AQ4,$AT$1,$AU$1) -> OK | H10: =IF('PI 5'!AR20<='PI 5'!AR4,$AT$1,$AU$1) -> OK | I10: =IF('PI 5'!AS20<='PI 5'!AS4,$AT$1,$AU$1) -> OK | J10: =IF('PI 5'!F20<='PI 5'!F4,$AT$1,$AU$1) -> OK | K10: =IF('PI 5'!G20<='PI 5'!G4,$AT$1,$AU$1) -> OK | L10: =IF('PI 5'!H20<='PI 5'!H4,$AT$1,$AU$1) -> OK | M10: =IF('PI 5'!I20<='PI 5'!I4,$AT$1,$AU$1) -> OK | N10: =IF('PI 5'!J20<='PI 5'!J4,$AT$1,$AU$1) -> OK | O10: =IF('PI 5'!K20<='PI 5'!K4,$AT$1,$AU$1) -> OK | P10: =IF('PI 5'!L20<='PI 5'!L4,$AT$1,$AU$1) -> OK | Q10: =IF('PI 5'!M20<='PI 5'!M4,$AT$1,$AU$1) -> OK | ... AS10: =IF('PI 5'!AO20<='PI 5'!AO4,$AT$1,$AU$1) -> OK
D11: (EECO02 + EECO04 + EECO05) = EECO01 | F11: =IF('PI 5'!AP5+'PI 5'!AP7+'PI 5'!AP8='PI 5'!AP4,$AT$1,$AU$1) -> OK | G11: =IF('PI 5'!AQ5+'PI 5'!AQ7+'PI 5'!AQ8='PI 5'!AQ4,$AT$1,$AU$1) -> OK | H11: =IF('PI 5'!AR5+'PI 5'!AR7+'PI 5'!AR8='PI 5'!AR4,$AT$1,$AU$1) -> OK | I11: =IF('PI 5'!AS5+'PI 5'!AS7+'PI 5'!AS8='PI 5'!AS4,$AT$1,$AU$1) -> OK | J11: =IF('PI 5'!F5+'PI 5'!F7+'PI 5'!F8='PI 5'!F4,$AT$1,$AU$1) -> OK | K11: =IF('PI 5'!G5+'PI 5'!G7+'PI 5'!G8='PI 5'!G4,$AT$1,$AU$1) -> OK | L11: =IF('PI 5'!H5+'PI 5'!H7+'PI 5'!H8='PI 5'!H4,$AT$1,$AU$1) -> OK | M11: =IF('PI 5'!I5+'PI 5'!I7+'PI 5'!I8='PI 5'!I4,$AT$1,$AU$1) -> OK | N11: =IF('PI 5'!J5+'PI 5'!J7+'PI 5'!J8='PI 5'!J4,$AT$1,$AU$1) -> OK | O11: =IF('PI 5'!K5+'PI 5'!K7+'PI 5'!K8='PI 5'!K4,$AT$1,$AU$1) -> OK | P11: =IF('PI 5'!L5+'PI 5'!L7+'PI 5'!L8='PI 5'!L4,$AT$1,$AU$1) -> OK | Q11: =IF('PI 5'!M5+'PI 5'!M7+'PI 5'!M8='PI 5'!M4,$AT$1,$AU$1) -> OK | ... AS11: =IF('PI 5'!AO5+'PI 5'!AO7+'PI 5'!AO8='PI 5'!AO4,$AT$1,$AU$1) -> OK
C12: =+'PI 5'!#REF! -> #REF! | D12: EP103 Ind específicos: valor total logrado = suma valores por género | F12: - | G12: - | H12: - | I12: - | J12: - | K12: - | L12: - | M12: - | N12: - | O12: - | P12: - | Q12: - | R12: - | S12: - | T12: - | U12: - | V12: - | W12: - | X12: - | Y12: - | Z12: - | AA12: - | AB12: - | AC12: - | AD12: - | AE12: - | AF12: - | AG12: - | AH12: - | AI12: - | AJ12: - | AK12: - | AL12: - | AM12: - | AN12: - | AO12: - | AP12: - | AQ12: - | AR12: - | AS12: -
C13: =+'PI 5'!#REF! -> #REF! | D13: EECR01 <= EECO04 | F13: =IF('PI 5'!AP23<='PI 5'!AP7,$AT$1,$AU$1) -> OK | G13: =IF('PI 5'!AQ23<='PI 5'!AQ7,$AT$1,$AU$1) -> OK | H13: =IF('PI 5'!AR23<='PI 5'!AR7,$AT$1,$AU$1) -> OK | I13: =IF('PI 5'!AS23<='PI 5'!AS7,$AT$1,$AU$1) -> OK | J13: -- | N13: -- | R13: -- | V13: -- | Z13: -- | AD13: -- | AH13: -- | AL13: -- | AP13: --
C14: =+'PI 5'!#REF! -> #REF! | D14: EECR02 <= EECO01 | F14: =IF('PI 5'!AP24<='PI 5'!AP4,$AT$1,$AU$1) -> OK | G14: =IF('PI 5'!AQ24<='PI 5'!AQ4,$AT$1,$AU$1) -> OK | H14: =IF('PI 5'!AR24<='PI 5'!AR4,$AT$1,$AU$1) -> OK | I14: =IF('PI 5'!AS24<='PI 5'!AS4,$AT$1,$AU$1) -> OK
C15: =+'PI 5'!#REF! -> #REF! | D15: EECR03 <= EECO01 | F15: =IF('PI 5'!AP25<='PI 5'!AP4,$AT$1,$AU$1) -> OK | G15: =IF('PI 5'!AQ25<='PI 5'!AQ4,$AT$1,$AU$1) -> OK | H15: =IF('PI 5'!AR25<='PI 5'!AR4,$AT$1,$AU$1) -> OK | I15: =IF('PI 5'!AS25<='PI 5'!AS4,$AT$1,$AU$1) -> OK
C16: =+'PI 5'!#REF! -> #REF! | D16: EECR04 <= (EECO02 + EECO04) | F16: =IF('PI 5'!AP26<='PI 5'!AP5+'PI 5'!AP7,$AT$1,$AU$1) -> OK | G16: =IF('PI 5'!AQ26<='PI 5'!AQ5+'PI 5'!AQ7,$AT$1,$AU$1) -> OK | H16: =IF('PI 5'!AR26<='PI 5'!AR5+'PI 5'!AR7,$AT$1,$AU$1) -> OK | I16: =IF('PI 5'!AS26<='PI 5'!AS5+'PI 5'!AS7,$AT$1,$AU$1) -> OK
C17: =+'PI 5'!#REF! -> #REF! | D17: EECR05 <= (EECO02 + EECO04) | F17: =IF('PI 5'!AP27<='PI 5'!AP5+'PI 5'!AP7,$AT$1,$AU$1) -> OK | G17: =IF('PI 5'!AQ27<='PI 5'!AQ5+'PI 5'!AQ7,$AT$1,$AU$1) -> OK | H17: =IF('PI 5'!AR27<='PI 5'!AR5+'PI 5'!AR7,$AT$1,$AU$1) -> OK | I17: =IF('PI 5'!AS27<='PI 5'!AS5+'PI 5'!AS7,$AT$1,$AU$1) -> OK
C18: =+'PI 5'!#REF! -> #REF! | D18: EECR06 <= EECO05 | F18: =IF('PI 5'!AP28<='PI 5'!AP8,$AT$1,$AU$1) -> OK | G18: =IF('PI 5'!AQ28<='PI 5'!AQ8,$AT$1,$AU$1) -> OK | H18: =IF('PI 5'!AR28<='PI 5'!AR8,$AT$1,$AU$1) -> OK | I18: =IF('PI 5'!AS28<='PI 5'!AS8,$AT$1,$AU$1) -> OK
C19: =+'PI 5'!#REF! -> #REF! | D19: ER506 Ind específicos: valor total logrado = suma valores por género | F19: - | G19: - | H19: - | I19: - | J19: - | K19: - | L19: - | M19: - | N19: - | O19: - | P19: - | Q19: - | R19: - | S19: - | T19: - | U19: - | V19: - | W19: - | X19: - | Y19: - | Z19: - | AA19: - | AB19: - | AC19: - | AD19: - | AE19: - | AF19: - | AG19: - | AH19: - | AI19: - | AJ19: - | AK19: - | AL19: - | AM19: - | AN19: - | AO19: - | AP19: - | AQ19: - | AR19: - | AS19: -
C20: =+'PI 5'!#REF! -> #REF! | D20: ER508 Ind específicos: valor total logrado = suma valores por género | F20: - | G20: - | H20: - | I20: - | J20: - | K20: - | L20: - | M20: - | N20: - | O20: - | P20: - | Q20: - | R20: - | S20: - | T20: - | U20: - | V20: - | W20: - | X20: - | Y20: - | Z20: - | AA20: - | AB20: - | AC20: - | AD20: - | AE20: - | AF20: - | AG20: - | AH20: - | AI20: - | AJ20: - | AK20: - | AL20: - | AM20: - | AN20: - | AO20: - | AP20: - | AQ20: - | AR20: - | AS20: -
